BEGIN:VCALENDAR
VERSION:2.0
CREATED:20260423T045747Z
PRODID:-//Clearfield\, Inc./Equisolve Calendar v1.0//EN
METHOD:PUBLISH
BEGIN:VEVENT
UID:133d53b58c5ed3da50ae5dbe370d1ba9
DTSTAMP:20260423T130052Z
DTSTART:20260506T210000Z
DTEND:20260506T220000Z
SUMMARY:Second Quarter 2026 Earnings Call
DESCRIPTION:Second Quarter 2026 Earnings Call\n\nDate: May 6\, 2026 5:00 pm EDT\n\nWebcast: https://viavid.webcasts.com/starthere.jsp?ei=1758584&tp_key=ac1f5d8865
END:VEVENT
END:VCALENDAR
